BEGIN:VCALENDAR
VERSION:2.0
PRODID:-//www.cpdcaseworkers.org//NONSGML kigkonsult.se iCalcreator 2.30.10
 //
CALSCALE:GREGORIAN
METHOD:PUBLISH
UID:012a3a8c-6669-480f-8ccb-d1bdc81e8ddb
X-WR-CALDESC:The CPD building will be closed in observance of Juneteenth.
X-WR-RELCALID:4eb0f43ba030c33ef8eff85327f68a0b
X-WR-TIMEZONE:America/Chicago
BEGIN:VTIMEZONE
TZID:America/Chicago
BEGIN:STANDARD
TZNAME:CST
DTSTART:20251102T020000
TZOFFSETFROM:-0500
TZOFFSETTO:-0600
RDATE:20261101T020000
RDATE:20271107T020000
END:STANDARD
BEGIN:DAYLIGHT
TZNAME:CDT
DTSTART:20260308T020000
TZOFFSETFROM:-0600
TZOFFSETTO:-0500
RDATE:20270314T020000
END:DAYLIGHT
END:VTIMEZONE
BEGIN:VEVENT
UID:b41c141c-ce16-4298-9ef9-1805927698a1
DTSTAMP:20260424T084404Z
DESCRIPTION:The CPD building will be closed in observance of Juneteenth.
DTSTART;TZID=America/Chicago:20260619T090000
DTEND;TZID=America/Chicago:20260619T170000
LOCATION:7950 Elmbrook Dr\, Dallas\, TX 75247-4925 US
SUMMARY:CPD Building Closure
END:VEVENT
END:VCALENDAR
